BEGIN:VCALENDAR
VERSION:2.0
PRODID:-//Inceptra - ECPv6.8.2.1//NONSGML v1.0//EN
CALSCALE:GREGORIAN
METHOD:PUBLISH
X-WR-CALNAME:Inceptra
X-ORIGINAL-URL:https://www.inceptra.com
X-WR-CALDESC:Events for Inceptra
REFRESH-INTERVAL;VALUE=DURATION:PT1H
X-Robots-Tag:noindex
X-PUBLISHED-TTL:PT1H
BEGIN:VTIMEZONE
TZID:UTC
BEGIN:STANDARD
TZOFFSETFROM:+0000
TZOFFSETTO:+0000
TZNAME:UTC
DTSTART:20240101T000000
END:STANDARD
END:VTIMEZONE
BEGIN:VEVENT
DTSTART;TZID=UTC:20240919T000000
DTEND;TZID=UTC:20240919T000000
DTSTAMP:20260423T193040
CREATED:20200525T024313Z
LAST-MODIFIED:20240919T192658Z
UID:10000108-1726704000-1726704000@www.inceptra.com
SUMMARY:WEBINAR: Lightweight Engineering with CATIA 3DEXPERIENCE
DESCRIPTION:. ON-DEMAND WEBINAR\n  \nDesign Meets Simulation in the Continuous Journey for Lightweight Optimized Design\nIn today’s increasingly competitive market\, product designers must push past conventional ways of working. Innovating one concept at a time is no longer a sustainable method. Furthermore\, in industries where lightweighting is a crucial requirement\, the use of lightweight technology and simulation methods has become indispensable. These approaches enable efficient product design optimization for enhanced performance\, while also addressing the growing customer demand for reduced energy consumption and material requirements. CATIA’s 3DEXPERIENCE® is the right tool to get you to the next level. \n  \n \n  \nWatch Now \n  \nWatch this webinar on lightweight engineering and learn about CATIA 3DEXPERIENCE technologies. Technologies that Boeing\, Airbus and others are using to find the right balance in reducing weight\, cost and material usage. They are doing all this while maintaining or increasing strength\, stability and safety. \n  \nFunctional Generative Design \nCATIA Function-Driven Generative Designer enables non-specialists to automatically generate optimized conceptual parts from a functional specification at the push of a button. Functional specification for this science-based generative design approach also uses key performance indicators\, such as minimize mass and maximize stiffness. \nBy varying inputs\, designers are able to generate multiple part variations to compare and analyze. Then\, manufacturing wizards help users detail design concepts based on the manufacturing process selected to produce the part: milling\, casting\, or additive manufacturing. \n  \nSee CATIA Function-Driven Generative Design in Action! \nWatch Now \n 
URL:https://www.inceptra.com/event/webinar-lightweight-engineering-with-catia-3dexperience-recording/
CATEGORIES:On-Demand Webinars
ATTACH;FMTTYPE=image/png:/wp-content/uploads/2024/07/Lightweight-Engineering-On-Demand-Webinar-v3.png
END:VEVENT
BEGIN:VEVENT
DTSTART;TZID=UTC:20240919T000000
DTEND;TZID=UTC:20240919T000000
DTSTAMP:20260423T193040
CREATED:20200521T130426Z
LAST-MODIFIED:20240919T192700Z
UID:10000109-1726704000-1726704000@www.inceptra.com
SUMMARY:WEBINAR:  Innovative Simulation-Driven Product Design
DESCRIPTION:ON-DEMAND WEBINAR\n  \nProduct development in automotive\, aerospace\, trucks\, trains and related areas today calls for highly integrated software tools and methods that capture fundamental requirements for body structures and seats\, and provide an efficient platform to not only convert design ideas to 3D geometry but also enable performance validation of concepts. It calls for a concurrent CAD-CAE process to make simulation-driven design a reality. \n  \n \n  \nWatch Now \n  \nInnovate Faster with Simulation-Driven Conceptual Design \nWatch this webinar on CATIA SFE CONCEPT and learn how industry leaders use this early phase simulation-driven design solution to accelerate the product development process of body structures and seats that meet ever-evolving market demands around weight reduction\, safety\, comfort and customization. \n  \nDiscover how CATIA SFE CONCEPT can empower your CAD and CAE teams to quickly create conceptual geometry and concurrently assess functional performance to drive product design early in the development cycle.  The stand-alone CATIA SFE CONCEPT solution can be used with your current CAD and CAE tools to: \n\nCreate and modify implicitly parametric surface models quickly and efficiently\nCreate a ready-to-simulate FE mesh including the entire connectivity and load case definitions at a click of a button\nControl analysis model parameters and create FE simulation decks for all required disciplines including crash\, NVH and durability from a single geometry model\nEvaluate functional performance for many design alternatives in short design cycles before investing in a detailed CAD process\nDesign concept analysis models support a high number of industry-standard FE solvers to assess vibrations\, stiffness\, crash safety and acoustics\nSupport a fully automated process integrating functional analysis and improvement with design variable functionality that allows the modifying of geometry and topology\n\n  \nHigh-Performance Science-Based Product Development  \nfrom Ideation to Innovation \nWatch Now
URL:https://www.inceptra.com/event/webinar-innovative-simulation-driven-product-design-recording/
CATEGORIES:On-Demand Webinars
ATTACH;FMTTYPE=image/png:/wp-content/uploads/2024/07/CATIA-SFE-CONCEPT_v2_600x300.png
END:VEVENT
BEGIN:VEVENT
DTSTART;TZID=UTC:20240919T000000
DTEND;TZID=UTC:20240919T000000
DTSTAMP:20260423T193040
CREATED:20200507T025535Z
LAST-MODIFIED:20240919T192702Z
UID:10000110-1726704000-1726704000@www.inceptra.com
SUMMARY:WEBINAR for Aerospace Suppliers:  Data Revision & Development Process Management Solution
DESCRIPTION:ON-DEMAND WEBINAR\n  \nOptimize the Management of Your Product Data and Development Processes\nAre your current product data and development processes slowing you down and biting into your profits?  Experience speed\, reduced cost and greater efficiency with the newest data and process management solutions for aerospace suppliers. \n  \n \n  \nWatch Now \n  \nIf you are focused on machined parts and complex assemblies or systems & engineering with a build-to-print business model\, watch this  industry-specific webinar on Dassault Systèmes’ ENOVIA solutions on the 3DEXPERIENCE platform. \n  \nTake Your Productivity to the Next Level \nLearn about product data and process management solutions that can be added to your product development workflow to help you: \n\nCreate a single source of information for all 2D and 3D engineering and production datasets to eliminate errors and reduce revisions\nManage revisions/versions of all engineering data (CATIA / SolidWorks / other CAD\, PDF\, MS Office\, etc.) you receive from your customers\nTrack the changes in the data package updates you receive from your customers\nReduce the time engineers spend on non-value added work (1/3 of their time*) and work on outdated information (20% of their time*)  *Source: Tech-Clarity\nManage programs\, bids\, requirements (including ITAR compliance requirements) and product quality in a seamlessly integrated platform across the total product development process\nEnable collaboration with suppliers and all internal stakeholders on one united and interactive business platform\n\n  \nIncrease Profitability with Next-Gen Product Data & Development Process Management Solutions \nWatch Now
URL:https://www.inceptra.com/event/webinar-for-aerospace-suppliers-solution-for-managing-data-revisions-process-management-recording/
CATEGORIES:On-Demand Webinars
ATTACH;FMTTYPE=image/jpeg:/wp-content/uploads/2024/07/Aerospace-Supllier-Enablement.jpg
END:VEVENT
BEGIN:VEVENT
DTSTART;TZID=UTC:20240919T000000
DTEND;TZID=UTC:20240919T000000
DTSTAMP:20260423T193040
CREATED:20200322T233718Z
LAST-MODIFIED:20240919T192704Z
UID:10000111-1726704000-1726704000@www.inceptra.com
SUMMARY:WEBINAR:  Optimize Production Planning & Scheduling
DESCRIPTION:ON-DEMAND WEBINAR\n  \n\nHow do you ensure your Available to Promise commits are being made?\nHow do you optimize critical production resources such as materials\, capacity and labor while aligning them to your production schedule?\nAre critical production planning decisions being made using limiting Excel spreadsheets or ineffective ERP generated schedules?\n\n  \n \n  \nWatch Now \n  \nWatch this webinar on DELMIA Ortems’ Advanced Planning & Scheduling (APS) software solution and discover how it deals with these questions.  Designed for schedulers\, supply chain managers and production managers\, DELMIA Ortems intuitively optimizes production schedules while considering the constraints that impact the success of your long term and short term scheduling commitments. \n  \nEscape Spreadsheets & Run Simulations with Your Real-Time Data \nDELMIA Ortems considers the plant’s key performance indicators and defines a schedule that drives cost out of the operation and ensures customer commitments are being achieved.  With sophisticated and easy to use “what if” analysis based on current data\, schedulers can rid themselves of cumbersome spreadsheets and quickly resolve\, or plan for\, both expected and unexpected production constraints. \n  \nImprove Overall Manufacturing Performance & Enable Agility \nIf you are working to transform an inefficient and difficult production planning process\, join us to learn how DELMIA Ortems leverages an integrated digital approach to bring a new level of efficiency and agility to your manufacturing operations while reducing costs\, optimizing resources and improving customer relations. \n  \nDELMIA Ortems APS Overview and Demo \nWatch Now \n 
URL:https://www.inceptra.com/event/webinar-optimize-production-planning-scheduling-recording/
CATEGORIES:On-Demand Webinars
ATTACH;FMTTYPE=image/jpeg:/wp-content/uploads/2024/07/Digital-Transformation-of-Production-Planning-and-Scheduling_600x300.jpg
END:VEVENT
BEGIN:VEVENT
DTSTART;TZID=UTC:20240919T000000
DTEND;TZID=UTC:20240919T000000
DTSTAMP:20260423T193040
CREATED:20200321T170411Z
LAST-MODIFIED:20240919T192706Z
UID:10000112-1726704000-1726704000@www.inceptra.com
SUMMARY:WEBINAR:  Accelerate Antenna Design
DESCRIPTION:ON-DEMAND WEBINAR\n  \nImprove Product Design Processes & Reduce Costs with Virtual Prototyping\nIn a world where connectivity is key\, companies and people increasingly rely on antennas to communicate.  In fact\, antennas are the single most important electrical component to our daily lives as phones\, cars\, computers\, wearables and even medical devices completely rely on antennas to talk with each other.  The Internet of Things (IoT) has already completely revolutionized how we communicate and interact over the last decade\, and the electrification of all product designs will only continue to increase. \n  \n \nWatch Now \n  \nWatch this webinar to discover how Dassault Systèmes’ powerful electromagnetic field simulation software\, CST Studio Suite\, enables product engineers to digitally design\, analyze and optimize antennas of all shapes\, sizes and frequency\, before committing to physical prototypes. \nLearn about CST Studio Suite’s ease of use\, range and power and how it’s the only complete software solution for designing antennas – making it the best antenna design tool on the market today! \n  \nAntenna Design with CST Studio Suite\nWatch Now \n  \n\nPresenter Bio\nTracey Vincent is a CST expert with Inceptra and was a senior application engineer with CST for over seven years.  She has a combined Bachelor’s and Master’s Degree in Electrical and Electronic Engineering from Herriot-Watt University in Edinburgh\, Scotland and a Master’s degree from Napier University\, Scotland\, UK\, where she wrote an FEA program to solve fields in ferrimagnetic materials.  Tracey has ten years of experience as a radio frequency (RF) design engineer.  She completed her Ph.D. at WPI in Worcester\, MA\, in 2009\, where she investigated the effect of material topography on RF signal loss. \n\n 
URL:https://www.inceptra.com/event/webinar-accelerate-antenna-design-recording/
CATEGORIES:On-Demand Webinars
ATTACH;FMTTYPE=image/jpeg:/wp-content/uploads/2024/07/Antenna-Design-Webinar-smart-watch.jpg
END:VEVENT
BEGIN:VEVENT
DTSTART;TZID=UTC:20240919T000000
DTEND;TZID=UTC:20240919T000000
DTSTAMP:20260423T193040
CREATED:20200212T194845Z
LAST-MODIFIED:20240919T192708Z
UID:10000113-1726704000-1726704000@www.inceptra.com
SUMMARY:WEBINAR:  What Is Electromagnetic Simulation Used For?
DESCRIPTION:ON-DEMAND WEBINAR\n  \nAccelerate Your Product Design Cycle & Reduce Costs with Virtual Prototyping \nWe live in a technological world dominated by wireless communication\, ever faster digital speeds\, and increasing incidence of unwanted radiation – either in the form of biological absorption or electromagnetic interference (EMI).  To reduce the time and cost of bringing a product to market that uses these technologies\, product design engineers need an efficient and accurate electromagnetic (EM) simulation tool with a broad scope. \n  \n \nWatch Now \n  \nAnalysis with EM simulation software ranges from individual components such as antennas\, sensors and chips up to entire devices\, including aircraft\, smartphones and MRI.  EM simulation software reduces the time and cost of bringing a product to market not just in the high-tech industries of electronics and communication\, but also in aerospace\, defense\, transportation and life sciences. \n  \nWatch this webinar to discover how Dassault Systèmes’ powerful CST Studio Suite enables product engineers to design\, analyze and optimize electromagnetic components and systems\, before committing to physical prototypes.  Learn about integrating this easy to navigate EM analysis software package into the product development process from the earliest stages to accelerate the process of evaluating the performance\, reliability\, and safety of materials and products. \n  \nSee a demo of CST Studio Suite that will illustrate its ease of use\, range and power.  Electromagnetic field solvers for applications across the EM spectrum are contained within a single\, intuitive user interface\, allowing for a best-fit selection for the application at hand.  Simulation setup is straightforward and the ability to switch between solvers delivers the fastest setup and simulation while still achieving accurate results. \n  \nWatch Now \n  \n\nPresenter Bio\nTracey Vincent is a CST expert with Inceptra and was a senior application engineer with CST for over seven years.  She has a combined Bachelor’s and Master’s Degree in Electrical and Electronic Engineering from Herriot-Watt University in Edinburgh\, Scotland and a Master’s degree from Napier University\, Scotland\, UK\, where she wrote an FEA program to solve fields in ferrimagnetic materials.  Tracey has ten years of experience as a radio frequency (RF) design engineer.  She completed her Ph.D. at WPI in Worcester\, MA\, in 2009\, where she investigated the effect of material topography on RF signal loss. \n\n 
URL:https://www.inceptra.com/event/webinar-what-is-electromagnetic-simulation-used-for-recording/
CATEGORIES:On-Demand Webinars
ATTACH;FMTTYPE=image/png:/wp-content/uploads/2024/07/CST-Webinar_1.png
END:VEVENT
BEGIN:VEVENT
DTSTART;TZID=UTC:20240919T000000
DTEND;TZID=UTC:20240919T000000
DTSTAMP:20260423T193040
CREATED:20191015T195414Z
LAST-MODIFIED:20240919T192710Z
UID:10000114-1726704000-1726704000@www.inceptra.com
SUMMARY:WEBINAR:  Easy-to-Use CFD Simulation for Product Engineers
DESCRIPTION:ON-DEMAND WEBINAR\n  \nMeet Product Design Goals Faster with Enhanced Virtual Testing \nProduct design engineers can now access the value of Computational Fluid Dynamics (CFD) simulation in a user experience that provides just what they need and speaks their language. Validate fluid and thermal performance to guide product design modifications early in the development cycle and explore innovative design concepts with comprehensive designer-level fluids simulation that does not require extensive specialist-level simulation knowledge. \n  \n \n\nWatch Now \n  \nWatch this webinar to discover how the Dassault Systèmes Fluid Dynamics Engineer role on the 3DEXPERIENCE platform enables users to quickly explore hundreds of designs while concurrently improving product performance based on criteria such as optimal flow distribution\, efficient thermal management\, minimal pressure losses\, flow uniformity\, reduced recirculation\, etc. \n  \nLeveraging industry standard RANS based finite volume CFD technology with a guided workflow and an easy-to-use interface\, this powerful fluid flow analysis solution allows users to build simulation models directly on the CAD geometry within a designer environment fully integrated with PLM. As simulation tasks and attributes are directly linked to the design\, simulation updates are easy to execute when the underlying design changes. \n  \nDesign engineers will want to view this webinar to learn about the advantages of the Fluid Dynamics Engineer solution: \n\nConduct trade-off studies early in the design process to meet product requirements\nSeamlessly navigate with the user assistant from model setup to results\nDefeature geometry using simulation model prep tools\nAutomatically selected turbulence models for internal and external steady state fluid flow\nHigh performance results visualization and automatic report generation\nIndustry standard RANS (Reynolds Averaged Navier-Stokes) based finite volume solver for steady state and low frequency flow\nAdvanced yet easy-to-use body-fitted Hex-Dominant Meshing (HDM) capability for complex geometry\nPatented Error estimator technology for accurate convergence reducing wasted iterations and solving faster\nFluid-Structure Interaction (FSI) and Conjugate Heat Transfer (CHT) multiphysics for modeling complex flow simulations with multiple domains\nConduct automated DOE/Optimization tasks with re-usable simulation processes and comprehensive result analytics to explore a larger design space for a true optimized design\n\n\nWatch Now
URL:https://www.inceptra.com/event/webinar-easy-to-use-cfd-simulation-for-product-engineers-recording/
CATEGORIES:On-Demand Webinars
ATTACH;FMTTYPE=image/jpeg:/wp-content/uploads/2024/07/Fluid-Dynamics-Engineer_with-border.jpg
END:VEVENT
BEGIN:VEVENT
DTSTART;TZID=UTC:20240919T000000
DTEND;TZID=UTC:20240919T000000
DTSTAMP:20260423T193040
CREATED:20190801T191113Z
LAST-MODIFIED:20240919T192711Z
UID:10000115-1726704000-1726704000@www.inceptra.com
SUMMARY:WEBINAR:  Easy-to-Use Structural Simulation for Product Engineers
DESCRIPTION:ON-DEMAND WEBINAR\n  \nMeet Product Design Goals Faster with Enhanced Virtual Testing \nYou don’t need to be an analyst to take advantage of the benefits that digital simulation can bring to product design and development – improved productivity\, reduced time to market\, optimal and durable products.  Product design engineers can now access comprehensive structural simulation tools within an intuitive user interface to assess the integrity of products under a wide range of loading conditions and guide design decisions. \n  \n \n  \nWatch Now \n  \nWatch this webinar to discover how the Dassault Systèmes Structural Professional Engineer role on the 3DEXPERIENCE platform offers multistep structural and thermal scenarios for virtual product performance and quality testing during the product design process. \n  \nDelivering state-of-the-art Abaqus simulation technology with a guided workflow and an easy-to-use interface\, this powerful structural analysis solution allows users to build simulation models directly on the CAD geometry within a designer environment fully integrated with PLM.  As simulation tasks and attributes are directly linked to the design\, simulation updates are easy to execute when the underlying design changes. \n  \nCATIA V5 Analysis users and design engineers will want to view this webinar to learn about the advantages of the Structural Professional Engineer solution: \n\nStructural nonlinear static\, frequency\, buckling\, modal dynamic response\, and structural thermal simulations of product designs\nAccuracy of the virtual testing ensured using state-of-the-art Abaqus simulation technology\nAssistant panel for quick assistance with setting up simulations\nAdvanced modeling and meshing capabilities\nMultistep structural and thermal scenarios\nHigh-performance results visualization capabilities\, particularly for very large models\nResults comparison and historization to facilitate assessment and impact of design changes\nSeamless design iterations based on simulation results\nCollaboration with product development stakeholders throughout the extended enterprise\n\n  \nWatch Now
URL:https://www.inceptra.com/event/webinar-easy-to-use-structural-simulation-for-product-engineers-recording/
CATEGORIES:On-Demand Webinars
ATTACH;FMTTYPE=image/jpeg:/wp-content/uploads/2024/07/DS-Structural-Professional-Engineer.jpg
END:VEVENT
BEGIN:VEVENT
DTSTART;TZID=UTC:20240919T000000
DTEND;TZID=UTC:20240919T000000
DTSTAMP:20260423T193040
CREATED:20190605T023851Z
LAST-MODIFIED:20240919T192713Z
UID:10000116-1726704000-1726704000@www.inceptra.com
SUMMARY:WEBINAR SERIES:  Digitalizing Product Design & Manufacturing Across the Enterprise
DESCRIPTION:ON-DEMAND WEBINARS\n  \nDigital Thread Webinar Series\nDassault Systèmes 3DEXPERIENCE Platform\n  \nEvery industry is transforming as organizations attempt to harness digital technologies to remain competitive and meet the demands of their customers. Dassault Systèmes’ 3DEXPERIENCE provides a unified business platform for engineering and manufacturing companies to directly address these emerging demands. The 3DEXPERIENCE platform digitally connects everyone in your organization\, simplifying the architecture and accelerating the product design and manufacturing process from ideation through to product delivery. \n 
URL:https://www.inceptra.com/event/webinar-series-digitalizing-design-and-manufacturing-across-the-enterprise_recording/
CATEGORIES:On-Demand Webinars
ATTACH;FMTTYPE=image/jpeg:/wp-content/uploads/2024/07/00-demo_spiral_8.jpg
END:VEVENT
BEGIN:VEVENT
DTSTART;TZID=UTC:20240206T000000
DTEND;TZID=UTC:20240206T000000
DTSTAMP:20260423T193040
CREATED:20240105T205411Z
LAST-MODIFIED:20240919T192113Z
UID:10000024-1707177600-1707177600@www.inceptra.com
SUMMARY:WEBINAR: 3DCS Variation Analyst
DESCRIPTION:ON-DEMAND WEBINAR\nInceptra and 3DCS present – Optimize Manufacturing Quality with 3DCS Variation Analyst\n  \nStep into the forefront of manufacturing innovation with 3DCS Variation Analyst! Trusted globally as the industry’s leading software and seamlessly integrated into 3DEXPERIENCE; 3DCS\, a recognized Dassault Systèmes Gold Partner\, empowers you to unleash unparalleled manufacturing excellence. Gain the power to not only control variation but also optimize designs with precision\, ensuring tolerance optimization and cutting costs. \n  \n \n  \nWatch NOW \n  \nMoreover\, with three advanced simulation methods\, 3DCS identifies sources\, highlights build issues\, and propels your product development with digital prototypes for rigorous testing and validation. Elevate precision\, reduce rework\, and enhance collaboration effortlessly. \nJoin our LIVE Webinar with Michael Pritchard\, Senior Sales Executive\, and Gerhard (Gary) Bell\, Engineer from 3DCS. Discover how 3DCS Variation Analyst\, integrated into 3DEXPERIENCE\, enhances manufacturing quality. Control variation\, optimize designs\, and reduce costs through precise simulation. Gain insights and automate measurement plans for superior results. \nEmbark on the journey into the future of manufacturing with 3DCS – where innovation seamlessly meets industry standards! \n  \nWatch NOW
URL:https://www.inceptra.com/event/webinar-3dcs-variation-analyst/
CATEGORIES:On-Demand Webinars
ATTACH;FMTTYPE=image/jpeg:/wp-content/uploads/2024/07/3DCS-LIVE-Webinar_LP.jpg
END:VEVENT
END:VCALENDAR